BEGIN:VCALENDAR
VERSION:2.0
PRODID:-//Bethany E-Free Church - ECPv6.11.0.1//NONSGML v1.0//EN
CALSCALE:GREGORIAN
METHOD:PUBLISH
X-ORIGINAL-URL:https://befreechurch.org
X-WR-CALDESC:Events for Bethany E-Free Church
REFRESH-INTERVAL;VALUE=DURATION:PT1H
X-Robots-Tag:noindex
X-PUBLISHED-TTL:PT1H
BEGIN:VTIMEZONE
TZID:America/Chicago
BEGIN:DAYLIGHT
TZOFFSETFROM:-0600
TZOFFSETTO:-0500
TZNAME:CDT
DTSTART:20270314T080000
END:DAYLIGHT
BEGIN:STANDARD
TZOFFSETFROM:-0500
TZOFFSETTO:-0600
TZNAME:CST
DTSTART:20271107T070000
END:STANDARD
END:VTIMEZONE
BEGIN:VEVENT
DTSTART;TZID=America/Chicago:20270404T094500
DTEND;TZID=America/Chicago:20270404T110000
DTSTAMP:20260420T120642
CREATED:20260320T142752Z
LAST-MODIFIED:20260420T012601Z
UID:10001732-1806831900-1806836400@befreechurch.org
SUMMARY:Worship
DESCRIPTION:
URL:https://befreechurch.org/event/worship-80/
END:VEVENT
BEGIN:VEVENT
DTSTART;TZID=America/Chicago:20270404T111500
DTEND;TZID=America/Chicago:20270404T121500
DTSTAMP:20260420T120642
CREATED:20260331T191133Z
LAST-MODIFIED:20260420T012602Z
UID:10001929-1806837300-1806840900@befreechurch.org
SUMMARY:Sunday School
DESCRIPTION:
URL:https://befreechurch.org/event/sunday-school-148/
END:VEVENT
BEGIN:VEVENT
DTSTART;TZID=America/Chicago:20270404T113000
DTEND;TZID=America/Chicago:20270404T114500
DTSTAMP:20260420T120642
CREATED:20260320T142752Z
LAST-MODIFIED:20260420T012603Z
UID:10001733-1806838200-1806839100@befreechurch.org
SUMMARY:Communion
DESCRIPTION:
URL:https://befreechurch.org/event/communion-20/
END:VEVENT
END:VCALENDAR