BEGIN:VCALENDAR
VERSION:2.0
PRODID:-//Bethany E-Free Church - ECPv6.11.0.1//NONSGML v1.0//EN
CALSCALE:GREGORIAN
METHOD:PUBLISH
X-ORIGINAL-URL:https://befreechurch.org
X-WR-CALDESC:Events for Bethany E-Free Church
REFRESH-INTERVAL;VALUE=DURATION:PT1H
X-Robots-Tag:noindex
X-PUBLISHED-TTL:PT1H
BEGIN:VTIMEZONE
TZID:America/Chicago
BEGIN:DAYLIGHT
TZOFFSETFROM:-0600
TZOFFSETTO:-0500
TZNAME:CDT
DTSTART:20270314T080000
END:DAYLIGHT
BEGIN:STANDARD
TZOFFSETFROM:-0500
TZOFFSETTO:-0600
TZNAME:CST
DTSTART:20271107T070000
END:STANDARD
END:VTIMEZONE
BEGIN:VEVENT
DTSTART;TZID=America/Chicago:20270509T094500
DTEND;TZID=America/Chicago:20270509T110000
DTSTAMP:20260420T150939
CREATED:20260320T143912Z
LAST-MODIFIED:20260420T012643Z
UID:10001752-1809855900-1809860400@befreechurch.org
SUMMARY:Worship
DESCRIPTION:
URL:https://befreechurch.org/event/worship-85/
END:VEVENT
BEGIN:VEVENT
DTSTART;TZID=America/Chicago:20270509T111500
DTEND;TZID=America/Chicago:20270509T121500
DTSTAMP:20260420T150939
CREATED:20260331T191137Z
LAST-MODIFIED:20260420T012644Z
UID:10001934-1809861300-1809864900@befreechurch.org
SUMMARY:Sunday School
DESCRIPTION:
URL:https://befreechurch.org/event/sunday-school-153/
END:VEVENT
END:VCALENDAR